BEGIN:VCALENDAR
VERSION:2.0
PRODID:-//Elkader, Iowa - ECPv6.15.20//NONSGML v1.0//EN
CALSCALE:GREGORIAN
METHOD:PUBLISH
X-WR-CALNAME:Elkader, Iowa
X-ORIGINAL-URL:https://elkader-iowa.com
X-WR-CALDESC:Events for Elkader, Iowa
REFRESH-INTERVAL;VALUE=DURATION:PT1H
X-Robots-Tag:noindex
X-PUBLISHED-TTL:PT1H
BEGIN:VTIMEZONE
TZID:America/Chicago
BEGIN:DAYLIGHT
TZOFFSETFROM:-0600
TZOFFSETTO:-0500
TZNAME:CDT
DTSTART:20250309T080000
END:DAYLIGHT
BEGIN:STANDARD
TZOFFSETFROM:-0500
TZOFFSETTO:-0600
TZNAME:CST
DTSTART:20251102T070000
END:STANDARD
BEGIN:DAYLIGHT
TZOFFSETFROM:-0600
TZOFFSETTO:-0500
TZNAME:CDT
DTSTART:20260308T080000
END:DAYLIGHT
BEGIN:STANDARD
TZOFFSETFROM:-0500
TZOFFSETTO:-0600
TZNAME:CST
DTSTART:20261101T070000
END:STANDARD
BEGIN:DAYLIGHT
TZOFFSETFROM:-0600
TZOFFSETTO:-0500
TZNAME:CDT
DTSTART:20270314T080000
END:DAYLIGHT
BEGIN:STANDARD
TZOFFSETFROM:-0500
TZOFFSETTO:-0600
TZNAME:CST
DTSTART:20271107T070000
END:STANDARD
END:VTIMEZONE
BEGIN:VEVENT
DTSTART;TZID=America/Chicago:20260207T090000
DTEND;TZID=America/Chicago:20260207T150000
DTSTAMP:20260423T143526
CREATED:20211124T174536Z
LAST-MODIFIED:20260104T212907Z
UID:10000128-1770454800-1770476400@elkader-iowa.com
SUMMARY:Brownie Bash
DESCRIPTION:Have you got a case of the Winter Blues? Grab your friends and head to Elkader to enjoy FREE taste-testing of decadent brownies\, cookies\, candy\, or yummy fudge! Whatever you’re craving you’ll find it at Elkader’s 7th annual Brownie Bash while you shop at participating businesses during their regular store hours. Earn “Brownie Points” with a Brownie Bash Punch Card and enter for a chance to win the grand prize. See you in Elkader’s Brownie Bash on Saturday\, February 7th! Brought to by the Elkader Merchants’ Group and Elkader Area Chamber of Commerce.   \n 
URL:https://elkader-iowa.com/event/brownie-bash/
LOCATION:Elkader\, Main Street\, Elkader\, Iowa\, 52043
CATEGORIES:Chamber of Commerce,Merchants Group
END:VEVENT
BEGIN:VEVENT
DTSTART;TZID=America/Chicago:20260215T190000
DTEND;TZID=America/Chicago:20260215T210000
DTSTAMP:20260423T143526
CREATED:20260104T215151Z
LAST-MODIFIED:20260104T220029Z
UID:10000540-1771182000-1771189200@elkader-iowa.com
SUMMARY:Cabin Concerts: Weary Ramblers & Simon Cropp
DESCRIPTION:Cabin Concerts: Weary Ramblers & Simon Cropp\n\n\n\n\n\nShow Dates: Sunday\, Feb 15th at 7:00 PM \n\n\n\n\n\n\nTickets: Tickets are $25 in advance \nEmail: operahouse@alpinecom.net  or tickets@icsbbs.com\nPhone:  (563) 873-2378\nIn-Person:  at Elkader Floral (563-245-2241) \nOnline: https://operahouse.booktix.com/ \nExperience an illumination of creativity\, inspiration\, passion\, and the deep connection music makes between artist and audience.  This is part of the Cabin Concerts Shine On Winter Concert Series at the Elkader Opera House!
URL:https://elkader-iowa.com/event/cabin-concerts-weary-ramblers-simon-cropp/
LOCATION:Elkader Opera House\, 207 N Main St\, Elkader\, IA\, 52043
ORGANIZER;CN="Cabin Concerts":MAILTO:tickets@cabinconcerts.org
END:VEVENT
END:VCALENDAR