BEGIN:VCALENDAR
VERSION:2.0
PRODID:-//Elkader, Iowa - ECPv6.15.20//NONSGML v1.0//EN
CALSCALE:GREGORIAN
METHOD:PUBLISH
X-WR-CALNAME:Elkader, Iowa
X-ORIGINAL-URL:https://elkader-iowa.com
X-WR-CALDESC:Events for Elkader, Iowa
REFRESH-INTERVAL;VALUE=DURATION:PT1H
X-Robots-Tag:noindex
X-PUBLISHED-TTL:PT1H
BEGIN:VTIMEZONE
TZID:America/Chicago
BEGIN:DAYLIGHT
TZOFFSETFROM:-0600
TZOFFSETTO:-0500
TZNAME:CDT
DTSTART:20220313T080000
END:DAYLIGHT
BEGIN:STANDARD
TZOFFSETFROM:-0500
TZOFFSETTO:-0600
TZNAME:CST
DTSTART:20221106T070000
END:STANDARD
BEGIN:DAYLIGHT
TZOFFSETFROM:-0600
TZOFFSETTO:-0500
TZNAME:CDT
DTSTART:20230312T080000
END:DAYLIGHT
BEGIN:STANDARD
TZOFFSETFROM:-0500
TZOFFSETTO:-0600
TZNAME:CST
DTSTART:20231105T070000
END:STANDARD
BEGIN:DAYLIGHT
TZOFFSETFROM:-0600
TZOFFSETTO:-0500
TZNAME:CDT
DTSTART:20240310T080000
END:DAYLIGHT
BEGIN:STANDARD
TZOFFSETFROM:-0500
TZOFFSETTO:-0600
TZNAME:CST
DTSTART:20241103T070000
END:STANDARD
END:VTIMEZONE
BEGIN:VEVENT
DTSTART;TZID=America/Chicago:20230915T100000
DTEND;TZID=America/Chicago:20230917T170000
DTSTAMP:20260425T194754
CREATED:20230821T162445Z
LAST-MODIFIED:20230821T162445Z
UID:10000298-1694772000-1694970000@elkader-iowa.com
SUMMARY:Plagman Barn "Show Days"
DESCRIPTION:The Northeast Iowa Farm Antique Association is dedicated to the historical preservation as well as the education of our area youth demonstrating the area’s early farm and home practices and techniques. \nSteam powered engines\, single cylinder engines\, and horse drawn equipment highlight our three day fall Show Days. Threshing oats\, chopping silage\, baling straw\, cutting wood from logs\, a working grist mill\, blacksmith shop\, butter churning\, horse pull\, antique tractor pull and other activities are on the daily calendar of events. \nThere are numerous old pieces of machinery\, household appliances\, and memorabilia to look at. We also have music and dancing\, food stands and shuttle service to make your tour enjoyable and more convenient. \nCome join us the third full weekend in September and revisit Iowa Farming of yesteryear.
URL:https://elkader-iowa.com/event/plagman-barn-show-days/
LOCATION:Plaghman Barn\, 28384 Garber Rd\, Garber\, IA\, 52048\, United States
CATEGORIES:Northeast Iowa Farm Antique Association
END:VEVENT
END:VCALENDAR