BEGIN:VCALENDAR
VERSION:2.0
PRODID:-//Elkader, Iowa - ECPv6.15.20//NONSGML v1.0//EN
CALSCALE:GREGORIAN
METHOD:PUBLISH
X-WR-CALNAME:Elkader, Iowa
X-ORIGINAL-URL:https://elkader-iowa.com
X-WR-CALDESC:Events for Elkader, Iowa
REFRESH-INTERVAL;VALUE=DURATION:PT1H
X-Robots-Tag:noindex
X-PUBLISHED-TTL:PT1H
BEGIN:VTIMEZONE
TZID:America/Chicago
BEGIN:DAYLIGHT
TZOFFSETFROM:-0600
TZOFFSETTO:-0500
TZNAME:CDT
DTSTART:20220313T080000
END:DAYLIGHT
BEGIN:STANDARD
TZOFFSETFROM:-0500
TZOFFSETTO:-0600
TZNAME:CST
DTSTART:20221106T070000
END:STANDARD
BEGIN:DAYLIGHT
TZOFFSETFROM:-0600
TZOFFSETTO:-0500
TZNAME:CDT
DTSTART:20230312T080000
END:DAYLIGHT
BEGIN:STANDARD
TZOFFSETFROM:-0500
TZOFFSETTO:-0600
TZNAME:CST
DTSTART:20231105T070000
END:STANDARD
BEGIN:DAYLIGHT
TZOFFSETFROM:-0600
TZOFFSETTO:-0500
TZNAME:CDT
DTSTART:20240310T080000
END:DAYLIGHT
BEGIN:STANDARD
TZOFFSETFROM:-0500
TZOFFSETTO:-0600
TZNAME:CST
DTSTART:20241103T070000
END:STANDARD
END:VTIMEZONE
BEGIN:VEVENT
DTSTART;VALUE=DATE:20230317
DTEND;VALUE=DATE:20230318
DTSTAMP:20260424T154319
CREATED:20230223T143627Z
LAST-MODIFIED:20230314T192138Z
UID:10000154-1679011200-1679097599@elkader-iowa.com
SUMMARY:St. Patrick's Day Activities
DESCRIPTION:Embrace your Irish spirit and join us on Friday March 17th in downtown Elkader for St. Patrick’s Day fun for all ages! The annual St. Patrick’s Day parade will kick-off at 5:30pm with the route stretching from Peace Church to Wilke’s.  Those interested in having an entry in the parade need to start lining-up by 5:00pm near Central Community School. No registration or fee is needed to enter the parade. Visit the Main Street Elkader Facebook page for complete parade details.  \nAfter the parade\, stop by your favorite local restaurant to enjoy multiple Irish based specials. Live music from Patsy & the Plum St. Jam will take place at Deb’s Brewtopia right after the parade. Also check out Joseph Valenti at TD’s Sports Bar from 6:00-9:00pm. Irish themed buffet items will be featured at Johnson’s Restaurant and Irish specials will be offered all day long at Fennellys’ Irish Pub. Check out any of your favorite local restaurants to find delicious eats!  \nBe sure to check out the stores in Downtown Elkader before the parade too! Pick up a lucky charm at Twisted Alley for up to 25% off your purchase. \nThe Friends of the Library are sponsoring Dinosaur Dimensions at the Central State Bank Community Room from 4:00-5:00pm. \n \nInformation on parking from Police Chief Seitz: \n“We wanted to remind everyone about the special parking restrictions for March 17th and provide some information to keep you in the loop.  \n\nOver the last few years\, we have restricted parking for this event after careful consideration. The lack of visibility in the downtown area caused by parked vehicles is just too great for a parade and is a very real safety concern. (We’re aware of too many “close calls” and we don’t like those)\n\n\nWhat you need to know: There’s a parade on March 17th and we need the streets cleared of all parked vehicles along the route\, because we don’t want anyone to get ran over.\n\n\nThe parade starts promptly at 5:30 pm on March 17th (Friday).\n\n\n– Special parking restrictions along the normal parade route begin at 3:00 pm. We will start by restricting all new incoming traffic from entering Main Street at that time and all vehicles still parked along the route should clear the area soon after. (Traffic can get out\, just not in)\n\n\n– Any parked vehicles failing to exited the area by 4:00 pm will be subject to tow.\n\n\nSo\, if it’s 3:00 pm and you don’t have a vehicle parked on Main Street along the route\, you’re good. It does mean you will not be able to drive up\, down or park on Main Street until after the parade. (See attached picture for alternative parking options)\n\n\nIf your vehicle is parked on Main Street along the route at 3:00 pm\, we are requesting you move it as soon as you can to help us out. You are going to need to make sure it’s moved by 4:00 pm at the very latest\, and if you plan on sticking around at all for the fun\, finding another parking spot off the route – earlier rather than later – is probably in your best interest. (Please see attached)\n\n\nPlease help spread the word and remind your family\, friends\, co-workers and customers as we get closer to the event.\n\n\nWe appreciate all your help and support.\n\n\nIf you have any questions or concerns\, please don’t hesitate to contact me.\nE-mail: epdchief@alpinecom.net or you may Call: (563) 245-3110\n\n\nThank you and stay safe!\nChief Mitch Seitz”\n\n\n    
URL:https://elkader-iowa.com/event/luck/
LOCATION:Main Street Elkader\, Elkader\, Iowa\, 52043
CATEGORIES:Main Street Elkader
ATTACH;FMTTYPE=image/jpeg:https://elkader-iowa.com/lab/wp-content/uploads/2022/02/St.-Pats.jpeg
ORGANIZER;CN="Main Street Elkader":MAILTO:mse@alpinecom.net
END:VEVENT
END:VCALENDAR