BEGIN:VCALENDAR
VERSION:2.0
PRODID:-//Elkader, Iowa - ECPv6.15.20//NONSGML v1.0//EN
CALSCALE:GREGORIAN
METHOD:PUBLISH
X-ORIGINAL-URL:https://elkader-iowa.com
X-WR-CALDESC:Events for Elkader, Iowa
REFRESH-INTERVAL;VALUE=DURATION:PT1H
X-Robots-Tag:noindex
X-PUBLISHED-TTL:PT1H
BEGIN:VTIMEZONE
TZID:America/Chicago
BEGIN:DAYLIGHT
TZOFFSETFROM:-0600
TZOFFSETTO:-0500
TZNAME:CDT
DTSTART:20210314T080000
END:DAYLIGHT
BEGIN:STANDARD
TZOFFSETFROM:-0500
TZOFFSETTO:-0600
TZNAME:CST
DTSTART:20211107T070000
END:STANDARD
BEGIN:DAYLIGHT
TZOFFSETFROM:-0600
TZOFFSETTO:-0500
TZNAME:CDT
DTSTART:20220313T080000
END:DAYLIGHT
BEGIN:STANDARD
TZOFFSETFROM:-0500
TZOFFSETTO:-0600
TZNAME:CST
DTSTART:20221106T070000
END:STANDARD
BEGIN:DAYLIGHT
TZOFFSETFROM:-0600
TZOFFSETTO:-0500
TZNAME:CDT
DTSTART:20230312T080000
END:DAYLIGHT
BEGIN:STANDARD
TZOFFSETFROM:-0500
TZOFFSETTO:-0600
TZNAME:CST
DTSTART:20231105T070000
END:STANDARD
END:VTIMEZONE
BEGIN:VEVENT
DTSTART;TZID=America/Chicago:20220408T140000
DTEND;TZID=America/Chicago:20220408T160000
DTSTAMP:20260425T061726
CREATED:20220314T191055Z
LAST-MODIFIED:20220314T191055Z
UID:10000156-1649426400-1649433600@elkader-iowa.com
SUMMARY:Downtown Clean-Up Day
DESCRIPTION:Calling all volunteers! On Friday\, April 8th we’ll be cleaning up the downtown. Work will begin at 2pm. We’ll have information and supplies at the Elkader Opera House parking lot (207 N Main St). There are jobs for all ages and levels of expertise. Grab your work gloves and bring the family down to help. The benefit to the community is huge! Some of the tasks to be accomplished include; pulling weeds\, picking up trash\, and more. \nCome down and join us sprucing up downtown as we enter into beautiful weather!
URL:https://elkader-iowa.com/event/downtown-clean-up-day/
LOCATION:Elkader Opera House\, 207 N Main St\, Elkader\, IA\, 52043
CATEGORIES:Main Street Elkader
ATTACH;FMTTYPE=image/png:https://elkader-iowa.com/lab/wp-content/uploads/2022/03/Downtown-Clean-Up.png
ORGANIZER;CN="Main Street Elkader":MAILTO:mse@alpinecom.net
END:VEVENT
END:VCALENDAR