BEGIN:VCALENDAR
VERSION:2.0
PRODID:-//Elkader, Iowa - ECPv6.15.20//NONSGML v1.0//EN
CALSCALE:GREGORIAN
METHOD:PUBLISH
X-ORIGINAL-URL:https://elkader-iowa.com
X-WR-CALDESC:Events for Elkader, Iowa
REFRESH-INTERVAL;VALUE=DURATION:PT1H
X-Robots-Tag:noindex
X-PUBLISHED-TTL:PT1H
BEGIN:VTIMEZONE
TZID:America/Chicago
BEGIN:DAYLIGHT
TZOFFSETFROM:-0600
TZOFFSETTO:-0500
TZNAME:CDT
DTSTART:20230312T080000
END:DAYLIGHT
BEGIN:STANDARD
TZOFFSETFROM:-0500
TZOFFSETTO:-0600
TZNAME:CST
DTSTART:20231105T070000
END:STANDARD
BEGIN:DAYLIGHT
TZOFFSETFROM:-0600
TZOFFSETTO:-0500
TZNAME:CDT
DTSTART:20240310T080000
END:DAYLIGHT
BEGIN:STANDARD
TZOFFSETFROM:-0500
TZOFFSETTO:-0600
TZNAME:CST
DTSTART:20241103T070000
END:STANDARD
BEGIN:DAYLIGHT
TZOFFSETFROM:-0600
TZOFFSETTO:-0500
TZNAME:CDT
DTSTART:20250309T080000
END:DAYLIGHT
BEGIN:STANDARD
TZOFFSETFROM:-0500
TZOFFSETTO:-0600
TZNAME:CST
DTSTART:20251102T070000
END:STANDARD
END:VTIMEZONE
BEGIN:VEVENT
DTSTART;TZID=America/Chicago:20240810T170000
DTEND;TZID=America/Chicago:20240810T200000
DTSTAMP:20260423T173150
CREATED:20240709T213841Z
LAST-MODIFIED:20240715T135059Z
UID:10000418-1723309200-1723320000@elkader-iowa.com
SUMMARY:Night at the Inn
DESCRIPTION:Mark your calendars for Motor Mill’s “Night at the Inn” event Saturday\, August 10th from 5:00 PM – 8:00 PM. We have activities for everyone and are excited to provide this fun evening for guests to bring their families to enjoy this beautiful site! \n  \nThe duo Kismet Rendezvous\, based out of Minneapolis\, Minnesota\, will provide live music during the event. They play Blues and Americana type music and will be playing inside our most recently renovated building on site\, the Stable\, for its first public debut. \n  \nThe Collective from Elkader\, Iowa will be providing local artists who will be displaying and demonstrating their talents through plein air painting for you to observe. Guests can also participate in mini art classes for all ages. Booths will include Sand Art\, Painting\, Build-A-Mill\, Make a Windsock\, and more. \n  \nWine tasting will be another fun addition provided by two local wineries. Brickyard Wines based in Clermont\, Iowa and Jennings Winery based in Garber\, Iowa. Each have many varieties for you to try while listening to the music and enjoying the art. Food will also be available provided by students fundraising for their Ag in Ireland trip with many yummy choices for guests to choose from. \n  \nSo\, bring your lawn chairs\, blankets\, friends & family and enjoy a relaxing “Night at the Inn”. In case of rain\, activities will be held in the Inn. We are very excited to hold this new event and look forward to seeing everyone there for a fun\, relaxing evening surrounded by the majestic Motor Mill Historic Site. \n  \nFor more information on this and other events call 563-245-1516\, visit www.motormill.org\,  or email motormill@gmail.com. Motor Mill Historic Site is located at 23002 Grain Road\, Elkader\, Iowa. 
URL:https://elkader-iowa.com/event/night-at-the-inn/
LOCATION:Motor Mill\, Elkader\, 52043\, United States
CATEGORIES:Community
END:VEVENT
END:VCALENDAR