BEGIN:VCALENDAR
VERSION:2.0
PRODID:-//Elkader, Iowa - ECPv6.15.20//NONSGML v1.0//EN
CALSCALE:GREGORIAN
METHOD:PUBLISH
X-WR-CALNAME:Elkader, Iowa
X-ORIGINAL-URL:https://elkader-iowa.com
X-WR-CALDESC:Events for Elkader, Iowa
REFRESH-INTERVAL;VALUE=DURATION:PT1H
X-Robots-Tag:noindex
X-PUBLISHED-TTL:PT1H
BEGIN:VTIMEZONE
TZID:America/Chicago
BEGIN:DAYLIGHT
TZOFFSETFROM:-0600
TZOFFSETTO:-0500
TZNAME:CDT
DTSTART:20230312T080000
END:DAYLIGHT
BEGIN:STANDARD
TZOFFSETFROM:-0500
TZOFFSETTO:-0600
TZNAME:CST
DTSTART:20231105T070000
END:STANDARD
BEGIN:DAYLIGHT
TZOFFSETFROM:-0600
TZOFFSETTO:-0500
TZNAME:CDT
DTSTART:20240310T080000
END:DAYLIGHT
BEGIN:STANDARD
TZOFFSETFROM:-0500
TZOFFSETTO:-0600
TZNAME:CST
DTSTART:20241103T070000
END:STANDARD
BEGIN:DAYLIGHT
TZOFFSETFROM:-0600
TZOFFSETTO:-0500
TZNAME:CDT
DTSTART:20250309T080000
END:DAYLIGHT
BEGIN:STANDARD
TZOFFSETFROM:-0500
TZOFFSETTO:-0600
TZNAME:CST
DTSTART:20251102T070000
END:STANDARD
END:VTIMEZONE
BEGIN:VEVENT
DTSTART;TZID=America/Chicago:20240601T130000
DTEND;TZID=America/Chicago:20240601T160000
DTSTAMP:20260423T203913
CREATED:20240508T142639Z
LAST-MODIFIED:20240508T142639Z
UID:10000404-1717246800-1717257600@elkader-iowa.com
SUMMARY:Elkader Depot Museum Grand Opening
DESCRIPTION:
URL:https://elkader-iowa.com/event/elkader-depot-museum-grand-opening/
LOCATION:Elkader Depot Museum\, 900 Mascara Road SE\, Elkader\, IA\, 52043
CATEGORIES:Community
END:VEVENT
BEGIN:VEVENT
DTSTART;TZID=America/Chicago:20240630T140000
DTEND;TZID=America/Chicago:20240630T160000
DTSTAMP:20260423T203913
CREATED:20240617T135247Z
LAST-MODIFIED:20240617T135247Z
UID:10000411-1719756000-1719763200@elkader-iowa.com
SUMMARY:Bridges In Time
DESCRIPTION:Donna Anderson will be doing a live portrayal of Louise Leibrock and her millinery from 1880-1930. Her presentations will be on June 30 at 2:00pm and July 28 at 2:00 pm in the Carter House Annex.
URL:https://elkader-iowa.com/event/bridges-in-time/2024-06-30/
LOCATION:Carter House Museum\, Elakder\, 52043
CATEGORIES:Community
END:VEVENT
END:VCALENDAR