BEGIN:VCALENDAR
VERSION:2.0
PRODID:-//Elkader, Iowa - ECPv6.15.20//NONSGML v1.0//EN
CALSCALE:GREGORIAN
METHOD:PUBLISH
X-WR-CALNAME:Elkader, Iowa
X-ORIGINAL-URL:https://elkader-iowa.com
X-WR-CALDESC:Events for Elkader, Iowa
REFRESH-INTERVAL;VALUE=DURATION:PT1H
X-Robots-Tag:noindex
X-PUBLISHED-TTL:PT1H
BEGIN:VTIMEZONE
TZID:America/Chicago
BEGIN:DAYLIGHT
TZOFFSETFROM:-0600
TZOFFSETTO:-0500
TZNAME:CDT
DTSTART:20230312T080000
END:DAYLIGHT
BEGIN:STANDARD
TZOFFSETFROM:-0500
TZOFFSETTO:-0600
TZNAME:CST
DTSTART:20231105T070000
END:STANDARD
BEGIN:DAYLIGHT
TZOFFSETFROM:-0600
TZOFFSETTO:-0500
TZNAME:CDT
DTSTART:20240310T080000
END:DAYLIGHT
BEGIN:STANDARD
TZOFFSETFROM:-0500
TZOFFSETTO:-0600
TZNAME:CST
DTSTART:20241103T070000
END:STANDARD
BEGIN:DAYLIGHT
TZOFFSETFROM:-0600
TZOFFSETTO:-0500
TZNAME:CDT
DTSTART:20250309T080000
END:DAYLIGHT
BEGIN:STANDARD
TZOFFSETFROM:-0500
TZOFFSETTO:-0600
TZNAME:CST
DTSTART:20251102T070000
END:STANDARD
END:VTIMEZONE
BEGIN:VEVENT
DTSTART;TZID=America/Chicago:20240321T170000
DTEND;TZID=America/Chicago:20240321T200000
DTSTAMP:20260424T005315
CREATED:20240319T172046Z
LAST-MODIFIED:20240319T172120Z
UID:10000371-1711040400-1711051200@elkader-iowa.com
SUMMARY:Ladies' Night Out at the Elkader Golf Course
DESCRIPTION:
URL:https://elkader-iowa.com/event/ladies-night-out-at-the-elkader-golf-course/
CATEGORIES:Community
ORGANIZER;CN="Elkader Golf & Country Club":MAILTO:golfelkader@gmail.com
END:VEVENT
BEGIN:VEVENT
DTSTART;TZID=America/Chicago:20240323T173000
DTEND;TZID=America/Chicago:20240323T173000
DTSTAMP:20260424T005315
CREATED:20240129T082052Z
LAST-MODIFIED:20240228T175452Z
UID:10000235-1711215000-1711215000@elkader-iowa.com
SUMMARY:Hospital Foundation Gala Fundraiser
DESCRIPTION:Hospital Foundation Gala \nSaturday\, March 23\, 2024\nPlans are underway for the Central Community Hospital Foundation Fundraiser Gala set for Saturday\, March 23\, 2024. \nThe event will be held at Johnson’s Reception Hall\, Elkader with a social hour at 5:30 p.m. and dinner at 6:30 p.m. \nProceeds from the fundraiser will support the patient care services for MercyOne Elkader Medical Center\, MercyOne Elkader Ambulance and MercyOne\nFamily Medicine Clinics. \nFor more information on tickets and sponsorship\, contact the Foundation office      563-245-7012 \nGala poster  \nSponsorship form
URL:https://elkader-iowa.com/event/hospital-foundation-gala-fundraiser/
LOCATION:Johnson’s Reception Hall\, 916 High Street NE\, Elkader\, IA\, 52043\, United States
CATEGORIES:Community
END:VEVENT
END:VCALENDAR