BEGIN:VCALENDAR
VERSION:2.0
PRODID:-//Elkader, Iowa - ECPv6.15.20//NONSGML v1.0//EN
CALSCALE:GREGORIAN
METHOD:PUBLISH
X-ORIGINAL-URL:https://elkader-iowa.com
X-WR-CALDESC:Events for Elkader, Iowa
REFRESH-INTERVAL;VALUE=DURATION:PT1H
X-Robots-Tag:noindex
X-PUBLISHED-TTL:PT1H
BEGIN:VTIMEZONE
TZID:America/Chicago
BEGIN:DAYLIGHT
TZOFFSETFROM:-0600
TZOFFSETTO:-0500
TZNAME:CDT
DTSTART:20220313T080000
END:DAYLIGHT
BEGIN:STANDARD
TZOFFSETFROM:-0500
TZOFFSETTO:-0600
TZNAME:CST
DTSTART:20221106T070000
END:STANDARD
BEGIN:DAYLIGHT
TZOFFSETFROM:-0600
TZOFFSETTO:-0500
TZNAME:CDT
DTSTART:20230312T080000
END:DAYLIGHT
BEGIN:STANDARD
TZOFFSETFROM:-0500
TZOFFSETTO:-0600
TZNAME:CST
DTSTART:20231105T070000
END:STANDARD
BEGIN:DAYLIGHT
TZOFFSETFROM:-0600
TZOFFSETTO:-0500
TZNAME:CDT
DTSTART:20240310T080000
END:DAYLIGHT
BEGIN:STANDARD
TZOFFSETFROM:-0500
TZOFFSETTO:-0600
TZNAME:CST
DTSTART:20241103T070000
END:STANDARD
END:VTIMEZONE
BEGIN:VEVENT
DTSTART;TZID=America/Chicago:20231201T170000
DTEND;TZID=America/Chicago:20231201T200000
DTSTAMP:20260424T051245
CREATED:20230418T195545Z
LAST-MODIFIED:20230418T201726Z
UID:10000264-1701450000-1701460800@elkader-iowa.com
SUMMARY:First Fridays at The Collective
DESCRIPTION:First Fridays & ARTIST SPOTLIGHTS
URL:https://elkader-iowa.com/event/first-fridays-at-the-collective/2023-12-01/
LOCATION:The Collective\, 129 N. Main Street\, Elkader\, IA\, 52043\, United States
CATEGORIES:Community
END:VEVENT
BEGIN:VEVENT
DTSTART;TZID=America/Chicago:20231210T130000
DTEND;TZID=America/Chicago:20231210T160000
DTSTAMP:20260424T051245
CREATED:20231109T164553Z
LAST-MODIFIED:20231109T164605Z
UID:10000331-1702213200-1702224000@elkader-iowa.com
SUMMARY:Earthmoving Legacy Center - Christmas Open House
DESCRIPTION:Legacy Center Christmas 2023 Flier \n\nThe Earthmoving Legacy Center is excited to host another Christmas Open House\, FREE for all ages — \nA Very Construction Christmas! \n\nSunday\, December 10th\n1pm-4pm\nEarthmoving Legacy Center\n24412 IA-13\, Elkader\, IA 52043\n\nSanta photo op\, museum tours\, coloring station\, coffee & hot cocoa\, Christmas cookies\, ornament making & more.
URL:https://elkader-iowa.com/event/earthmoving-legacy-center-christmas-open-house/
LOCATION:Earth Moving Legacy Center\, Elkader\, Iowa\, 52043\, United States
CATEGORIES:Community
END:VEVENT
BEGIN:VEVENT
DTSTART;TZID=America/Chicago:20231220T073000
DTEND;TZID=America/Chicago:20231220T210000
DTSTAMP:20260424T051245
CREATED:20231213T172444Z
LAST-MODIFIED:20231213T172444Z
UID:10000335-1703057400-1703106000@elkader-iowa.com
SUMMARY:Central's Holiday Coffee & Carols
DESCRIPTION:
URL:https://elkader-iowa.com/event/centrals-holiday-coffee-carols/
LOCATION:Central Community School\, 400 1st St. NW\, Elkader\, Iowa\, 52043
CATEGORIES:Central Community School,Community
END:VEVENT
END:VCALENDAR