BEGIN:VCALENDAR
VERSION:2.0
PRODID:-//Elkader, Iowa - ECPv6.15.20//NONSGML v1.0//EN
CALSCALE:GREGORIAN
METHOD:PUBLISH
X-ORIGINAL-URL:https://elkader-iowa.com
X-WR-CALDESC:Events for Elkader, Iowa
REFRESH-INTERVAL;VALUE=DURATION:PT1H
X-Robots-Tag:noindex
X-PUBLISHED-TTL:PT1H
BEGIN:VTIMEZONE
TZID:America/Chicago
BEGIN:DAYLIGHT
TZOFFSETFROM:-0600
TZOFFSETTO:-0500
TZNAME:CDT
DTSTART:20220313T080000
END:DAYLIGHT
BEGIN:STANDARD
TZOFFSETFROM:-0500
TZOFFSETTO:-0600
TZNAME:CST
DTSTART:20221106T070000
END:STANDARD
BEGIN:DAYLIGHT
TZOFFSETFROM:-0600
TZOFFSETTO:-0500
TZNAME:CDT
DTSTART:20230312T080000
END:DAYLIGHT
BEGIN:STANDARD
TZOFFSETFROM:-0500
TZOFFSETTO:-0600
TZNAME:CST
DTSTART:20231105T070000
END:STANDARD
BEGIN:DAYLIGHT
TZOFFSETFROM:-0600
TZOFFSETTO:-0500
TZNAME:CDT
DTSTART:20240310T080000
END:DAYLIGHT
BEGIN:STANDARD
TZOFFSETFROM:-0500
TZOFFSETTO:-0600
TZNAME:CST
DTSTART:20241103T070000
END:STANDARD
END:VTIMEZONE
BEGIN:VEVENT
DTSTART;TZID=America/Chicago:20230901T170000
DTEND;TZID=America/Chicago:20230901T200000
DTSTAMP:20260424T090241
CREATED:20230418T195545Z
LAST-MODIFIED:20230418T201726Z
UID:10000260-1693587600-1693598400@elkader-iowa.com
SUMMARY:First Fridays at The Collective
DESCRIPTION:First Fridays & ARTIST SPOTLIGHTS
URL:https://elkader-iowa.com/event/first-fridays-at-the-collective/2023-09-01/
LOCATION:The Collective\, 129 N. Main Street\, Elkader\, IA\, 52043\, United States
CATEGORIES:Community
END:VEVENT
BEGIN:VEVENT
DTSTART;TZID=America/Chicago:20230921T170000
DTEND;TZID=America/Chicago:20230921T210000
DTSTAMP:20260424T090241
CREATED:20230510T152902Z
LAST-MODIFIED:20230907T160816Z
UID:10000285-1695315600-1695330000@elkader-iowa.com
SUMMARY:Faith & Four Letter Words
DESCRIPTION:  \nTickets — https://www.eventbrite.com/e/711431600067?aff=oddtdtcreator \nFORMER KWWL NEWS ANCHORS BRING SPEAKING TOUR TO ELKADER AREA \nAmanda Goodman and Tara Thomas take Faith & Four Letter Words podcast on the road! \nELKADER\, IA – Former KWWL news anchors\, Tara Thomas and Amanda Goodman\, launched a successful speaking tour this year. The outspoken former television journalists\, close friends and professional communication consultants are taking their entertaining and brutally honest podcast called Faith and Four Letter Words on the road to deliver a message of empowerment to women of all ages. \nAmong the tour stops is Elkader! The show\, sponsored by the Elkader Area Chamber of Commerce\, is set for Thursday\, September 21\, 2023 at the Volga City Opera House\, 609 Washington Street in Volga\, Iowa. Doors open at 5pm for the 6-9pm show that will include food\, cash bar and an opportunity for a memorable girls’ night out. Click here for tickets. \nThrough humor and raw honesty\, Tara and Amanda empower other women to find their voice and never apologize for using it. Both longtime former TV news anchors\, the duo walked away from the business led by faith and frustration. Today they are professional speakers\, social media influencers and communication consultants with a collective reach of 75\,000+. \nThe duo kicked off this inaugural tour in Dyersville\, Iowa and left with rave reviews. More than 1\,300 women showed up in their first three stops: \n“Such a great event. I could have listened to you both longer. So inspirational and powerful.” \n“Your smiles and laughter are infectious! Keep doing you ladies! You’re rocking it!!” \nFrom their decades-long run-ins with members of the “boys’ club” to backstabbing colleagues who wanted their jobs to being told how to dress and what NOT to wear by consultants\, these two are going there… and they’re not holding anything back. \n  \nJoin Amanda and Tara at the Volga City Opera House on Thursday\, September 21 for a healthy dose of laughs and love as they share the sometimes hard truths about being women\, wives and mothers in the workforce—trying to balance it all. \n 
URL:https://elkader-iowa.com/event/faith-four-letter-words/
LOCATION:Volga Opera House\, Volga\, Iowa\, 52043
CATEGORIES:Chamber of Commerce,Community
ORGANIZER;CN="Elkader Area Chamber of Commerce":MAILTO:elkader@alpinecom.net
END:VEVENT
BEGIN:VEVENT
DTSTART;TZID=America/Chicago:20230928T170000
DTEND;TZID=America/Chicago:20230928T200000
DTSTAMP:20260424T090241
CREATED:20230925T150913Z
LAST-MODIFIED:20230925T151247Z
UID:10000305-1695920400-1695931200@elkader-iowa.com
SUMMARY:Ladies' Night Out - Elkader Golf Course
DESCRIPTION:
URL:https://elkader-iowa.com/event/5540/
LOCATION:Elkader Golf & Country Club\, 24361 Gunder Rd\, Elkader\, Iowa\, 52043
CATEGORIES:Community
ORGANIZER;CN="Elkader Golf & Country Club":MAILTO:golfelkader@gmail.com
END:VEVENT
END:VCALENDAR