BEGIN:VCALENDAR
VERSION:2.0
PRODID:-//Elkader, Iowa - ECPv6.15.20//NONSGML v1.0//EN
CALSCALE:GREGORIAN
METHOD:PUBLISH
X-WR-CALNAME:Elkader, Iowa
X-ORIGINAL-URL:https://elkader-iowa.com
X-WR-CALDESC:Events for Elkader, Iowa
REFRESH-INTERVAL;VALUE=DURATION:PT1H
X-Robots-Tag:noindex
X-PUBLISHED-TTL:PT1H
BEGIN:VTIMEZONE
TZID:America/Chicago
BEGIN:DAYLIGHT
TZOFFSETFROM:-0600
TZOFFSETTO:-0500
TZNAME:CDT
DTSTART:20220313T080000
END:DAYLIGHT
BEGIN:STANDARD
TZOFFSETFROM:-0500
TZOFFSETTO:-0600
TZNAME:CST
DTSTART:20221106T070000
END:STANDARD
BEGIN:DAYLIGHT
TZOFFSETFROM:-0600
TZOFFSETTO:-0500
TZNAME:CDT
DTSTART:20230312T080000
END:DAYLIGHT
BEGIN:STANDARD
TZOFFSETFROM:-0500
TZOFFSETTO:-0600
TZNAME:CST
DTSTART:20231105T070000
END:STANDARD
BEGIN:DAYLIGHT
TZOFFSETFROM:-0600
TZOFFSETTO:-0500
TZNAME:CDT
DTSTART:20240310T080000
END:DAYLIGHT
BEGIN:STANDARD
TZOFFSETFROM:-0500
TZOFFSETTO:-0600
TZNAME:CST
DTSTART:20241103T070000
END:STANDARD
END:VTIMEZONE
BEGIN:VEVENT
DTSTART;TZID=America/Chicago:20230803T173000
DTEND;TZID=America/Chicago:20230803T193000
DTSTAMP:20260424T102716
CREATED:20230728T150713Z
LAST-MODIFIED:20230728T150713Z
UID:10000294-1691083800-1691091000@elkader-iowa.com
SUMMARY:Emil Abdelkader & AEP:Past\, Present & Future
DESCRIPTION:
URL:https://elkader-iowa.com/event/emil-abdelkader-aeppast-present-future/
LOCATION:City Hall\, 207 N Main Street\, Elkader\, Iowa\, 52043
CATEGORIES:Community
END:VEVENT
BEGIN:VEVENT
DTSTART;TZID=America/Chicago:20230804T170000
DTEND;TZID=America/Chicago:20230804T200000
DTSTAMP:20260424T102716
CREATED:20230418T195545Z
LAST-MODIFIED:20230418T201726Z
UID:10000259-1691168400-1691179200@elkader-iowa.com
SUMMARY:First Fridays at The Collective
DESCRIPTION:First Fridays & ARTIST SPOTLIGHTS
URL:https://elkader-iowa.com/event/first-fridays-at-the-collective/2023-08-04/
LOCATION:The Collective\, 129 N. Main Street\, Elkader\, IA\, 52043\, United States
CATEGORIES:Community
END:VEVENT
BEGIN:VEVENT
DTSTART;TZID=America/Chicago:20230807T190000
DTEND;TZID=America/Chicago:20230807T210000
DTSTAMP:20260424T102716
CREATED:20230718T162105Z
LAST-MODIFIED:20230718T162105Z
UID:10000291-1691434800-1691442000@elkader-iowa.com
SUMMARY:3rd Annual Kids' Fashion Show
DESCRIPTION:
URL:https://elkader-iowa.com/event/3rd-annual-kids-fashion-show/
LOCATION:Elkader City Park Shelter House\, 707 South High Street\, Elkader\, Iowa\, 52043\, United States
CATEGORIES:Community
END:VEVENT
BEGIN:VEVENT
DTSTART;TZID=America/Chicago:20230820T100000
DTEND;TZID=America/Chicago:20230820T153000
DTSTAMP:20260424T102716
CREATED:20230224T164216Z
LAST-MODIFIED:20230224T170103Z
UID:10000142-1692525600-1692545400@elkader-iowa.com
SUMMARY:Elkader Depot Model Train Show & Swap
DESCRIPTION:The 11th Annual Elkader Model Train Show and Swap Meet \nSunday\, August 20\, 2023 \nJohnson’s Reception Hall – 910 High Street NE and Mobile Track Solutions – 203 Johnson Street NE  Elkader IA \n10:00 a.m. to 3:30 p.m. \nAdmission: adults – $5.00; children 6-12 – $2.00; 5 and under – free \nFree parking \nLunch stand \nAll scales \nDoor prizes \nFree shuttle available between both sites. \nAll proceeds go to the Elkader Depot Fund. \nView the Facebook page for more information. \nCall 563-880-2066 or 563-880-4241 for more information.
URL:https://elkader-iowa.com/event/elkader-depot-model-train-show-swap/
LOCATION:Johnson’s Reception Hall\, 916 High Street NE\, Elkader\, IA\, 52043\, United States
CATEGORIES:Community
END:VEVENT
BEGIN:VEVENT
DTSTART;TZID=America/Chicago:20230824T170000
DTEND;TZID=America/Chicago:20230824T200000
DTSTAMP:20260424T102716
CREATED:20230811T144321Z
LAST-MODIFIED:20230811T144340Z
UID:10000296-1692896400-1692907200@elkader-iowa.com
SUMMARY:
DESCRIPTION:
URL:https://elkader-iowa.com/event/5466/
LOCATION:Elkader Golf & Country Club\, 24361 Gunder Rd\, Elkader\, Iowa\, 52043
CATEGORIES:Community
ORGANIZER;CN="Elkader Golf & Country Club":MAILTO:golfelkader@gmail.com
END:VEVENT
END:VCALENDAR