BEGIN:VCALENDAR
VERSION:2.0
PRODID:-//Elkader, Iowa - ECPv6.15.20//NONSGML v1.0//EN
CALSCALE:GREGORIAN
METHOD:PUBLISH
X-WR-CALNAME:Elkader, Iowa
X-ORIGINAL-URL:https://elkader-iowa.com
X-WR-CALDESC:Events for Elkader, Iowa
REFRESH-INTERVAL;VALUE=DURATION:PT1H
X-Robots-Tag:noindex
X-PUBLISHED-TTL:PT1H
BEGIN:VTIMEZONE
TZID:America/Chicago
BEGIN:DAYLIGHT
TZOFFSETFROM:-0600
TZOFFSETTO:-0500
TZNAME:CDT
DTSTART:20220313T080000
END:DAYLIGHT
BEGIN:STANDARD
TZOFFSETFROM:-0500
TZOFFSETTO:-0600
TZNAME:CST
DTSTART:20221106T070000
END:STANDARD
BEGIN:DAYLIGHT
TZOFFSETFROM:-0600
TZOFFSETTO:-0500
TZNAME:CDT
DTSTART:20230312T080000
END:DAYLIGHT
BEGIN:STANDARD
TZOFFSETFROM:-0500
TZOFFSETTO:-0600
TZNAME:CST
DTSTART:20231105T070000
END:STANDARD
BEGIN:DAYLIGHT
TZOFFSETFROM:-0600
TZOFFSETTO:-0500
TZNAME:CDT
DTSTART:20240310T080000
END:DAYLIGHT
BEGIN:STANDARD
TZOFFSETFROM:-0500
TZOFFSETTO:-0600
TZNAME:CST
DTSTART:20241103T070000
END:STANDARD
END:VTIMEZONE
BEGIN:VEVENT
DTSTART;TZID=America/Chicago:20230707T170000
DTEND;TZID=America/Chicago:20230707T200000
DTSTAMP:20260424T114026
CREATED:20230418T195545Z
LAST-MODIFIED:20230418T201726Z
UID:10000258-1688749200-1688760000@elkader-iowa.com
SUMMARY:First Fridays at The Collective
DESCRIPTION:First Fridays & ARTIST SPOTLIGHTS
URL:https://elkader-iowa.com/event/first-fridays-at-the-collective/2023-07-07/
LOCATION:The Collective\, 129 N. Main Street\, Elkader\, IA\, 52043\, United States
CATEGORIES:Community
END:VEVENT
BEGIN:VEVENT
DTSTART;VALUE=DATE:20230727
DTEND;VALUE=DATE:20230731
DTSTAMP:20260424T114026
CREATED:20211130T021311Z
LAST-MODIFIED:20230418T202259Z
UID:10000132-1690416000-1690761599@elkader-iowa.com
SUMMARY:Sweet Corn Days
DESCRIPTION:Join us for a shuck’n good in Elkader\, Iowa the last full weekend of July! The Sweet Corn Days committee is excited to bring Elkader a fun filled weekend full of activities for all ages. Join us for our Shed Your Threads 5K/10K/ Fun run\, a free bend and booze yoga event\, softball tournament\, free donut hole eating contest\, free kiddie tractor pull\, parade\, carnival\, ice cream\, free music\, bean bag tournament\, free sweet corn\, moonlight swim\, live music\, and more! \n 
URL:https://elkader-iowa.com/event/sweet-corn-days/
LOCATION:Founders’ Park\, 302 S. Main Street\, Elkader\, Iowa\, 52043
CATEGORIES:Community
END:VEVENT
BEGIN:VEVENT
DTSTART;TZID=America/Chicago:20230730T103000
DTEND;TZID=America/Chicago:20230730T170000
DTSTAMP:20260424T114026
CREATED:20230608T143952Z
LAST-MODIFIED:20230626T145751Z
UID:10000288-1690713000-1690736400@elkader-iowa.com
SUMMARY:Whistlin' Bit Saddle Club Fun Show
DESCRIPTION:  \nClick below for more information on classes and other information \n2122_001
URL:https://elkader-iowa.com/event/whistlin-bit-saddle-club-fun-show-2/
LOCATION:Elkader\, Iowa\, 52043
CATEGORIES:Community
ORGANIZER;CN="Whistlin' Bit Saddle Club":MAILTO:tinanieland@gmail.com
END:VEVENT
END:VCALENDAR