BEGIN:VCALENDAR
VERSION:2.0
PRODID:-//Elkader, Iowa - ECPv6.15.20//NONSGML v1.0//EN
CALSCALE:GREGORIAN
METHOD:PUBLISH
X-WR-CALNAME:Elkader, Iowa
X-ORIGINAL-URL:https://elkader-iowa.com
X-WR-CALDESC:Events for Elkader, Iowa
REFRESH-INTERVAL;VALUE=DURATION:PT1H
X-Robots-Tag:noindex
X-PUBLISHED-TTL:PT1H
BEGIN:VTIMEZONE
TZID:America/Chicago
BEGIN:DAYLIGHT
TZOFFSETFROM:-0600
TZOFFSETTO:-0500
TZNAME:CDT
DTSTART:20220313T080000
END:DAYLIGHT
BEGIN:STANDARD
TZOFFSETFROM:-0500
TZOFFSETTO:-0600
TZNAME:CST
DTSTART:20221106T070000
END:STANDARD
BEGIN:DAYLIGHT
TZOFFSETFROM:-0600
TZOFFSETTO:-0500
TZNAME:CDT
DTSTART:20230312T080000
END:DAYLIGHT
BEGIN:STANDARD
TZOFFSETFROM:-0500
TZOFFSETTO:-0600
TZNAME:CST
DTSTART:20231105T070000
END:STANDARD
BEGIN:DAYLIGHT
TZOFFSETFROM:-0600
TZOFFSETTO:-0500
TZNAME:CDT
DTSTART:20240310T080000
END:DAYLIGHT
BEGIN:STANDARD
TZOFFSETFROM:-0500
TZOFFSETTO:-0600
TZNAME:CST
DTSTART:20241103T070000
END:STANDARD
END:VTIMEZONE
BEGIN:VEVENT
DTSTART;TZID=America/Chicago:20230305T163000
DTEND;TZID=America/Chicago:20230305T190000
DTSTAMP:20260424T164747
CREATED:20230224T161600Z
LAST-MODIFIED:20230224T164033Z
UID:10000233-1678033800-1678042800@elkader-iowa.com
SUMMARY:Ambulance Soup Supper Fundraiser
DESCRIPTION:Soup Supper Fundraiser for MercyOne Elkader Ambulance\nWhen: Sunday\, March 5\, 2023\nTime: 4:30 – 7 p.m.\nLocation: Elkader Emergency Services Building  921 Humphrey Street NE\nMenu: Cheesy Ham/potato soup\, chicken noodle soup\, chili\, ham sandwiches\, desserts\, milk\, juice\, water\, coffee\nCarry-outs available upon request – call 563-880-0623 after 3:30 p.m. on March 5th to order.\nFree will donation.
URL:https://elkader-iowa.com/event/ambulance-soup-supper-fundraiser/
LOCATION:Emergency Services Building\, 921 Humphrey Street NE\, Elkader\, IA\, 52043\, United States
CATEGORIES:Community
END:VEVENT
BEGIN:VEVENT
DTSTART;TZID=America/Chicago:20230311T200000
DTEND;TZID=America/Chicago:20230311T200000
DTSTAMP:20260424T164747
CREATED:20230224T162841Z
LAST-MODIFIED:20230224T163946Z
UID:10000153-1678564800-1678564800@elkader-iowa.com
SUMMARY:Firemen's Dance
DESCRIPTION:Continue your Ladies’ Day Out adventure by attending the Firemen’s Dance from 8:00-Midnight at TD’s Sports Bar & Grill.  Music provided by Bad Dog 20/20.  Free will donation.
URL:https://elkader-iowa.com/event/firemens-dance/
LOCATION:TD’s Sports Bar\, 203 Main Street\, Elkader\, Iowa\, 52043\, United States
CATEGORIES:Community
END:VEVENT
BEGIN:VEVENT
DTSTART;TZID=America/Chicago:20230331T193000
DTEND;TZID=America/Chicago:20230331T213000
DTSTAMP:20260424T164747
CREATED:20230327T181736Z
LAST-MODIFIED:20230327T181736Z
UID:10000246-1680291000-1680298200@elkader-iowa.com
SUMMARY:Central Community School Play
DESCRIPTION:
URL:https://elkader-iowa.com/event/central-community-school-play/2023-03-31/
LOCATION:Central Community School\, 400 1st St. NW\, Elkader\, Iowa\, 52043
CATEGORIES:Central Community School,Community
END:VEVENT
END:VCALENDAR