BEGIN:VCALENDAR
VERSION:2.0
PRODID:-//Elkader, Iowa - ECPv6.15.20//NONSGML v1.0//EN
CALSCALE:GREGORIAN
METHOD:PUBLISH
X-ORIGINAL-URL:https://elkader-iowa.com
X-WR-CALDESC:Events for Elkader, Iowa
REFRESH-INTERVAL;VALUE=DURATION:PT1H
X-Robots-Tag:noindex
X-PUBLISHED-TTL:PT1H
BEGIN:VTIMEZONE
TZID:America/Chicago
BEGIN:DAYLIGHT
TZOFFSETFROM:-0600
TZOFFSETTO:-0500
TZNAME:CDT
DTSTART:20210314T080000
END:DAYLIGHT
BEGIN:STANDARD
TZOFFSETFROM:-0500
TZOFFSETTO:-0600
TZNAME:CST
DTSTART:20211107T070000
END:STANDARD
BEGIN:DAYLIGHT
TZOFFSETFROM:-0600
TZOFFSETTO:-0500
TZNAME:CDT
DTSTART:20220313T080000
END:DAYLIGHT
BEGIN:STANDARD
TZOFFSETFROM:-0500
TZOFFSETTO:-0600
TZNAME:CST
DTSTART:20221106T070000
END:STANDARD
BEGIN:DAYLIGHT
TZOFFSETFROM:-0600
TZOFFSETTO:-0500
TZNAME:CDT
DTSTART:20230312T080000
END:DAYLIGHT
BEGIN:STANDARD
TZOFFSETFROM:-0500
TZOFFSETTO:-0600
TZNAME:CST
DTSTART:20231105T070000
END:STANDARD
END:VTIMEZONE
BEGIN:VEVENT
DTSTART;TZID=America/Chicago:20221202T170000
DTEND;TZID=America/Chicago:20221202T200000
DTSTAMP:20260424T204354
CREATED:20221201T162644Z
LAST-MODIFIED:20221201T162654Z
UID:10000222-1670000400-1670011200@elkader-iowa.com
SUMMARY:Carter House  Museum Open House
DESCRIPTION:The Carter House is decked out with many Christmas Trees.  We celebrate their history using some of  the earliest antique ornaments and decorations.  Please come and meet with Friends on December 2\, 2022 from 5:00-8;00 PM\, for some holiday cheer\, in addition the Carter House Museum will also be open December 3-4 and December 10-11\, from 1:00-4:00 PM.
URL:https://elkader-iowa.com/event/carter-house-museum-open-house/
LOCATION:Carter House Museum\, Elakder\, 52043
CATEGORIES:Community
END:VEVENT
END:VCALENDAR