BEGIN:VCALENDAR
VERSION:2.0
PRODID:-//Elkader, Iowa - ECPv6.15.20//NONSGML v1.0//EN
CALSCALE:GREGORIAN
METHOD:PUBLISH
X-ORIGINAL-URL:https://elkader-iowa.com
X-WR-CALDESC:Events for Elkader, Iowa
REFRESH-INTERVAL;VALUE=DURATION:PT1H
X-Robots-Tag:noindex
X-PUBLISHED-TTL:PT1H
BEGIN:VTIMEZONE
TZID:America/Chicago
BEGIN:DAYLIGHT
TZOFFSETFROM:-0600
TZOFFSETTO:-0500
TZNAME:CDT
DTSTART:20230312T080000
END:DAYLIGHT
BEGIN:STANDARD
TZOFFSETFROM:-0500
TZOFFSETTO:-0600
TZNAME:CST
DTSTART:20231105T070000
END:STANDARD
BEGIN:DAYLIGHT
TZOFFSETFROM:-0600
TZOFFSETTO:-0500
TZNAME:CDT
DTSTART:20240310T080000
END:DAYLIGHT
BEGIN:STANDARD
TZOFFSETFROM:-0500
TZOFFSETTO:-0600
TZNAME:CST
DTSTART:20241103T070000
END:STANDARD
BEGIN:DAYLIGHT
TZOFFSETFROM:-0600
TZOFFSETTO:-0500
TZNAME:CDT
DTSTART:20250309T080000
END:DAYLIGHT
BEGIN:STANDARD
TZOFFSETFROM:-0500
TZOFFSETTO:-0600
TZNAME:CST
DTSTART:20251102T070000
END:STANDARD
END:VTIMEZONE
BEGIN:VEVENT
DTSTART;TZID=America/Chicago:20240330T090000
DTEND;TZID=America/Chicago:20240330T100000
DTSTAMP:20260424T115241
CREATED:20240311T205351Z
LAST-MODIFIED:20240311T205351Z
UID:10000367-1711789200-1711792800@elkader-iowa.com
SUMMARY:Easter Egg/Candy Hunt
DESCRIPTION:Elkader’s Easter Egg/Candy Hunt is Saturday\, March 30\, 2024\, starting at 9 a.m. in Founders’ Park. The event is held rain or shine. Children of ages up to and including 3rd grade are invited to particpate. The event is organized by the Worthwhile 4-H Club.
URL:https://elkader-iowa.com/event/easter-egg-candy-hunt/
LOCATION:Founders’ Park\, 302 S. Main Street\, Elkader\, Iowa\, 52043
CATEGORIES:City of Elkader
END:VEVENT
END:VCALENDAR