BEGIN:VCALENDAR
VERSION:2.0
PRODID:-//Elkader, Iowa - ECPv6.15.20//NONSGML v1.0//EN
CALSCALE:GREGORIAN
METHOD:PUBLISH
X-ORIGINAL-URL:https://elkader-iowa.com
X-WR-CALDESC:Events for Elkader, Iowa
REFRESH-INTERVAL;VALUE=DURATION:PT1H
X-Robots-Tag:noindex
X-PUBLISHED-TTL:PT1H
BEGIN:VTIMEZONE
TZID:America/Chicago
BEGIN:DAYLIGHT
TZOFFSETFROM:-0600
TZOFFSETTO:-0500
TZNAME:CDT
DTSTART:20230312T080000
END:DAYLIGHT
BEGIN:STANDARD
TZOFFSETFROM:-0500
TZOFFSETTO:-0600
TZNAME:CST
DTSTART:20231105T070000
END:STANDARD
BEGIN:DAYLIGHT
TZOFFSETFROM:-0600
TZOFFSETTO:-0500
TZNAME:CDT
DTSTART:20240310T080000
END:DAYLIGHT
BEGIN:STANDARD
TZOFFSETFROM:-0500
TZOFFSETTO:-0600
TZNAME:CST
DTSTART:20241103T070000
END:STANDARD
BEGIN:DAYLIGHT
TZOFFSETFROM:-0600
TZOFFSETTO:-0500
TZNAME:CDT
DTSTART:20250309T080000
END:DAYLIGHT
BEGIN:STANDARD
TZOFFSETFROM:-0500
TZOFFSETTO:-0600
TZNAME:CST
DTSTART:20251102T070000
END:STANDARD
END:VTIMEZONE
BEGIN:VEVENT
DTSTART;TZID=America/Chicago:20240926T180000
DTEND;TZID=America/Chicago:20240926T200000
DTSTAMP:20260424T051412
CREATED:20240823T160441Z
LAST-MODIFIED:20240829T163221Z
UID:10000442-1727373600-1727380800@elkader-iowa.com
SUMMARY:Faith And Four Letter Words
DESCRIPTION:The Elkader Area Chamber of Commerce is excited to bring Faith & Four Letter Words\, Thursday\, September 26th\, 6 to 8 p.m.\, at the Elkader Golf and Country Club. \nAre you ready for an epic girls’ night out? There will be laughter\, tears and jaws on the ground when two washed-up news chicks show up. With a combined 40 years of working in the boys’ club and dealing with Perfect Polly\, Amanda Goodman and Tara Thomas talk about what led them to finally crush the boxes they were shoved into. Just like the title\, one was led by faith and the other was led by four letter words. But collectively\, they learned if they were going to live in the glass fish bowl\, they were going to do it unapologetically real and authentic. \nUse the link to purchase your tickets! Please note that the website may list the Elkader Opera House as the venue. This has been changed to the Elkader Golf and Country Club. Please contact the Chamber at 563-245-2857 for additional details.\nhttps://www.eventbrite.com/e/999304866757?aff=oddtdtcreator
URL:https://elkader-iowa.com/event/faith-and-four-letter-words-at-the-elkader-opera-house/
LOCATION:Elkader Golf & Country Club\, 24361 Gunder Rd\, Elkader\, Iowa\, 52043
CATEGORIES:Chamber of Commerce
ORGANIZER;CN="Elkader Area Chamber of Commerce":MAILTO:elkader@alpinecom.net
END:VEVENT
END:VCALENDAR