BEGIN:VCALENDAR
VERSION:2.0
PRODID:-//Elkader, Iowa - ECPv6.15.20//NONSGML v1.0//EN
CALSCALE:GREGORIAN
METHOD:PUBLISH
X-ORIGINAL-URL:https://elkader-iowa.com
X-WR-CALDESC:Events for Elkader, Iowa
REFRESH-INTERVAL;VALUE=DURATION:PT1H
X-Robots-Tag:noindex
X-PUBLISHED-TTL:PT1H
BEGIN:VTIMEZONE
TZID:America/Chicago
BEGIN:DAYLIGHT
TZOFFSETFROM:-0600
TZOFFSETTO:-0500
TZNAME:CDT
DTSTART:20230312T080000
END:DAYLIGHT
BEGIN:STANDARD
TZOFFSETFROM:-0500
TZOFFSETTO:-0600
TZNAME:CST
DTSTART:20231105T070000
END:STANDARD
BEGIN:DAYLIGHT
TZOFFSETFROM:-0600
TZOFFSETTO:-0500
TZNAME:CDT
DTSTART:20240310T080000
END:DAYLIGHT
BEGIN:STANDARD
TZOFFSETFROM:-0500
TZOFFSETTO:-0600
TZNAME:CST
DTSTART:20241103T070000
END:STANDARD
BEGIN:DAYLIGHT
TZOFFSETFROM:-0600
TZOFFSETTO:-0500
TZNAME:CDT
DTSTART:20250309T080000
END:DAYLIGHT
BEGIN:STANDARD
TZOFFSETFROM:-0500
TZOFFSETTO:-0600
TZNAME:CST
DTSTART:20251102T070000
END:STANDARD
END:VTIMEZONE
BEGIN:VEVENT
DTSTART;TZID=America/Chicago:20240712T090000
DTEND;TZID=America/Chicago:20240712T170000
DTSTAMP:20260424T075136
CREATED:20240625T151804Z
LAST-MODIFIED:20240625T151941Z
UID:10000415-1720774800-1720803600@elkader-iowa.com
SUMMARY:Inside/Outside Sale-A-Bration
DESCRIPTION:Join us Friday\, July 12th and Saturday\, July 13th for Elkader’s Inside/Outside Sale-A-Bration! We will be giving away a total of $500 to be used during the event!
URL:https://elkader-iowa.com/event/inside-outside-sale-a-bration/2024-07-12/
CATEGORIES:Chamber of Commerce
END:VEVENT
BEGIN:VEVENT
DTSTART;TZID=America/Chicago:20240713T100000
DTEND;TZID=America/Chicago:20240713T170000
DTSTAMP:20260424T075136
CREATED:20240625T151804Z
LAST-MODIFIED:20240625T151941Z
UID:10000416-1720864800-1720890000@elkader-iowa.com
SUMMARY:Inside/Outside Sale-A-Bration
DESCRIPTION:Join us Friday\, July 12th and Saturday\, July 13th for Elkader’s Inside/Outside Sale-A-Bration! We will be giving away a total of $500 to be used during the event!
URL:https://elkader-iowa.com/event/inside-outside-sale-a-bration/2024-07-13/
CATEGORIES:Chamber of Commerce
END:VEVENT
END:VCALENDAR